{
 "currentVersion": 10.81,
 "serviceDescription": "RegadioCatastro25830",
 "mapName": "Layers",
 "description": "",
 "copyrightText": "",
 "supportsDynamicLayers": true,
 "layers": [
  {
   "id": 0,
   "name": "Regadios_Ebro_2024",
   "parentLayerId": -1,
   "defaultVisibility": true,
   "subLayerIds": null,
   "minScale": 0,
   "maxScale": 0,
   "type": "Feature Layer",
   "geometryType": "esriGeometryPolygon"
  }
 ],
 "tables": [],
 "spatialReference": {
  "wkid": 25830,
  "latestWkid": 25830
 },
 "singleFusedMapCache": true,
 "tileInfo": {
  "rows": 256,
  "cols": 256,
  "dpi": 96,
  "format": "PNG8",
  "compressionQuality": 0,
  "origin": {
   "x": 351719,
   "y": 4823357
  },
  "spatialReference": {
   "wkid": 25830,
   "latestWkid": 25830
  },
  "lods": [
   {
    "level": 0,
    "resolution": 800,
    "scale": 3023616
   },
   {
    "level": 1,
    "resolution": 400,
    "scale": 1511808
   },
   {
    "level": 2,
    "resolution": 200,
    "scale": 755904
   },
   {
    "level": 3,
    "resolution": 100,
    "scale": 377952
   },
   {
    "level": 4,
    "resolution": 50,
    "scale": 188976
   },
   {
    "level": 5,
    "resolution": 25,
    "scale": 94488
   },
   {
    "level": 6,
    "resolution": 12.5,
    "scale": 47244
   },
   {
    "level": 7,
    "resolution": 6.25,
    "scale": 23622
   },
   {
    "level": 8,
    "resolution": 3.125,
    "scale": 11811
   }
  ]
 },
 "initialExtent": {
  "xmin": 377585.4071800001,
  "ymin": 4549798.250383632,
  "xmax": 937834.26162,
  "ymax": 4822675.36396352,
  "spatialReference": {
   "wkid": 25830,
   "latestWkid": 25830
  }
 },
 "fullExtent": {
  "xmin": 403051.2642000001,
  "ymin": 4473706.710999999,
  "xmax": 912368.4046,
  "ymax": 4773987.068499999,
  "spatialReference": {
   "wkid": 25830,
   "latestWkid": 25830
  }
 },
 "minScale": 3023616,
 "maxScale": 11811,
 "minLOD": 0,
 "maxLOD": 8,
 "units": "esriMeters",
 "supportedImageFormatTypes": "PNG32,PNG24,PNG,JPG,DIB,TIFF,EMF,PS,PDF,GIF,SVG,SVGZ,BMP",
 "documentInfo": {
  "Title": "",
  "Author": "",
  "Comments": "RegadioCatastro25830",
  "Subject": "RegadioCatastro25830",
  "Category": "",
  "AntialiasingMode": "None",
  "TextAntialiasingMode": "Force",
  "Keywords": "RegadioCatastro25830"
 },
 "capabilities": "Map,Query,Data",
 "supportedQueryFormats": "JSON, geoJSON",
 "exportTilesAllowed": false,
 "referenceScale": 0,
 "supportsDatumTransformation": true,
 "maxRecordCount": 1000,
 "maxImageHeight": 4096,
 "maxImageWidth": 4096,
 "supportedExtensions": "",
 "serviceItemId": "6ea83d65a0d84510b5faf6ea8aa40ad6"
}
