{
 "currentVersion": 10.81,
 "cimVersion": "2.6.0",
 "serviceDescription": "",
 "mapName": "Layers",
 "description": "",
 "copyrightText": "",
 "supportsDynamicLayers": true,
 "layers": [
  {
   "id": 0,
   "name": "sitebro.SDE.ES091_Mancha_T010",
   "parentLayerId": -1,
   "defaultVisibility": true,
   "subLayerIds": null,
   "minScale": 0,
   "maxScale": 0,
   "type": "Feature Layer",
   "geometryType": "esriGeometryPolygon",
   "supportsDynamicLegends": true
  }
 ],
 "tables": [],
 "spatialReference": {
  "wkid": 25830,
  "latestWkid": 25830,
  "xyTolerance": 0.001,
  "zTolerance": 2.0E-4,
  "mTolerance": 2.0E-4,
  "falseX": -5120900,
  "falseY": -9998100,
  "xyUnits": 4.504455473910538E8,
  "falseZ": -100000,
  "zUnits": 10000,
  "falseM": -100000,
  "mUnits": 10000
 },
 "singleFusedMapCache": true,
 "tileInfo": {
  "rows": 256,
  "cols": 256,
  "dpi": 96,
  "format": "PNG8",
  "compressionQuality": 0,
  "origin": {
   "x": 351719,
   "y": 4823357
  },
  "spatialReference": {
   "wkid": 25830,
   "latestWkid": 25830,
   "xyTolerance": 0.001,
   "zTolerance": 2,
   "mTolerance": 0.001,
   "falseX": -5120900,
   "falseY": -9998100,
   "xyUnits": 4.504455473910538E8,
   "falseZ": 0,
   "zUnits": 1,
   "falseM": -100000,
   "mUnits": 10000
  },
  "lods": [
   {
    "level": 0,
    "resolution": 800,
    "scale": 3023616
   },
   {
    "level": 1,
    "resolution": 400,
    "scale": 1511808
   },
   {
    "level": 2,
    "resolution": 200,
    "scale": 755904
   },
   {
    "level": 3,
    "resolution": 100,
    "scale": 377952
   },
   {
    "level": 4,
    "resolution": 50,
    "scale": 188976
   },
   {
    "level": 5,
    "resolution": 25,
    "scale": 94488
   },
   {
    "level": 6,
    "resolution": 12.5,
    "scale": 47244
   },
   {
    "level": 7,
    "resolution": 6.25,
    "scale": 23622
   },
   {
    "level": 8,
    "resolution": 3.125,
    "scale": 11811
   }
  ]
 },
 "initialExtent": {
  "xmin": 483070.9287999999,
  "ymin": 4487234.881726185,
  "xmax": 910779.4796000002,
  "ymax": 4786664.100273816,
  "spatialReference": {
   "wkid": 25830,
   "latestWkid": 25830,
   "xyTolerance": 0.001,
   "zTolerance": 2.0E-4,
   "mTolerance": 2.0E-4,
   "falseX": -5120900,
   "falseY": -9998100,
   "xyUnits": 4.504455473910538E8,
   "falseZ": -100000,
   "zUnits": 10000,
   "falseM": -100000,
   "mUnits": 10000
  }
 },
 "fullExtent": {
  "xmin": 483070.9287999999,
  "ymin": 4507586.6722,
  "xmax": 910779.4796000002,
  "ymax": 4766312.309800001,
  "spatialReference": {
   "wkid": 25830,
   "latestWkid": 25830,
   "xyTolerance": 0.001,
   "zTolerance": 2.0E-4,
   "mTolerance": 2.0E-4,
   "falseX": -5120900,
   "falseY": -9998100,
   "xyUnits": 4.504455473910538E8,
   "falseZ": -100000,
   "zUnits": 10000,
   "falseM": -100000,
   "mUnits": 10000
  }
 },
 "minScale": 3023616,
 "maxScale": 11811,
 "minLOD": 0,
 "maxLOD": 8,
 "units": "esriMeters",
 "supportedImageFormatTypes": "PNG32,PNG24,PNG,JPG,DIB,TIFF,EMF,PS,PDF,GIF,SVG,SVGZ,BMP",
 "documentInfo": {
  "Title": "Untitled.aprx",
  "Author": "",
  "Comments": "",
  "Subject": "",
  "Category": "",
  "AntialiasingMode": "None",
  "TextAntialiasingMode": "Force",
  "Keywords": "ES091noSNCZIManchaT1025830"
 },
 "capabilities": "Map,Query,Data",
 "supportedQueryFormats": "JSON, geoJSON, PBF",
 "exportTilesAllowed": false,
 "referenceScale": 0.0,
 "datumTransformations": [
  {
   "geoTransforms": [
    {
     "wkid": 108001,
     "latestWkid": 1241,
     "transformForward": true,
     "name": "NAD_1927_To_NAD_1983_NADCON"
    }
   ]
  },
  {
   "geoTransforms": [
    {
     "wkid": 108001,
     "latestWkid": 1241,
     "transformForward": false,
     "name": "NAD_1927_To_NAD_1983_NADCON"
    }
   ]
  },
  {
   "geoTransforms": [
    {
     "wkt": "GEOGTRAN[\"ED50_TO_ETRS89_IGNPENR2009\",GEOGCS[\"GCS_European_1950\",DATUM[\"D_European_1950\",SPHEROID[\"International_1924\",6378388.0,297.0]],PRIMEM[\"Greenwich\",0.0],UNIT[\"Degree\",0.0174532925199433]],GEOGCS[\"GCS_ETRS_1989\",DATUM[\"D_ETRS_1989\",SPHEROID[\"GRS_1980\",6378137.0,298.257222101]],PRIMEM[\"Greenwich\",0.0],UNIT[\"Degree\",0.0174532925199433]],METHOD[\"NTv2\"],PARAMETER[\"Dataset_spain/PENR2009\",0.0]]",
     "transformForward": true,
     "name": "ED50_TO_ETRS89_IGNPENR2009"
    }
   ]
  },
  {
   "geoTransforms": [
    {
     "wkt": "GEOGTRAN[\"ED50_TO_ETRS89_IGNPENR2009\",GEOGCS[\"GCS_European_1950\",DATUM[\"D_European_1950\",SPHEROID[\"International_1924\",6378388.0,297.0]],PRIMEM[\"Greenwich\",0.0],UNIT[\"Degree\",0.0174532925199433]],GEOGCS[\"GCS_ETRS_1989\",DATUM[\"D_ETRS_1989\",SPHEROID[\"GRS_1980\",6378137.0,298.257222101]],PRIMEM[\"Greenwich\",0.0],UNIT[\"Degree\",0.0174532925199433]],METHOD[\"NTv2\"],PARAMETER[\"Dataset_spain/PENR2009\",0.0]]",
     "transformForward": false,
     "name": "ED50_TO_ETRS89_IGNPENR2009"
    }
   ]
  }
 ],
 "supportsDatumTransformation": true,
 "archivingInfo": {
  "supportsHistoricMoment": false
 },
 "supportsClipping": true,
 "supportsSpatialFilter": true,
 "supportsQueryDataElements": true,
 "maxRecordCount": 2000,
 "maxImageHeight": 4096,
 "maxImageWidth": 4096,
 "supportedExtensions": "",
 "serviceItemId": "42cf592bf3d94c40bc48cffc35594fed"
}
